BEGIN:VCALENDAR
VERSION:2.0
PRODID:-//Torrance - South Bay 360 - ECPv6.15.20//NONSGML v1.0//EN
CALSCALE:GREGORIAN
METHOD:PUBLISH
X-WR-CALNAME:Torrance - South Bay 360
X-ORIGINAL-URL:https://torrance.southbaycheer360.com
X-WR-CALDESC:Events for Torrance - South Bay 360
REFRESH-INTERVAL;VALUE=DURATION:PT1H
X-Robots-Tag:noindex
X-PUBLISHED-TTL:PT1H
BEGIN:VTIMEZONE
TZID:UTC
BEGIN:STANDARD
TZOFFSETFROM:+0000
TZOFFSETTO:+0000
TZNAME:UTC
DTSTART:20250101T000000
END:STANDARD
END:VTIMEZONE
BEGIN:VEVENT
DTSTART;VALUE=DATE:20260615
DTEND;VALUE=DATE:20260620
DTSTAMP:20260423T083003
CREATED:20260219T213122Z
LAST-MODIFIED:20260219T215028Z
UID:266-1781481600-1781913599@torrance.southbaycheer360.com
SUMMARY:Cheer Camp
DESCRIPTION:[vc_row][vc_column][vc_column_text css=””]Start summer strong! Campers build foundational skills\, boost confidence\, and make new friends through high-energy training\, games\, and creative activities.[/vc_column_text][/vc_column][/vc_row]
URL:https://portal.iclasspro.com/southbaycheer360/camp-details/366?typeId=1&#038;filters=%7B%22sorting%22:%22time%22%7D&#038;campTypeName=Summer%20Camp&#038;campTypeNamePlural=Summer%20Camps#new_tab
CATEGORIES:Summer Camps
ATTACH;FMTTYPE=image/jpeg:https://torrance.southbaycheer360.com/wp-content/uploads/sites/2/2026/02/IMG_0192.jpg
END:VEVENT
BEGIN:VEVENT
DTSTART;VALUE=DATE:20260622
DTEND;VALUE=DATE:20260627
DTSTAMP:20260423T083003
CREATED:20260219T214145Z
LAST-MODIFIED:20260219T215049Z
UID:272-1782086400-1782518399@torrance.southbaycheer360.com
SUMMARY:Cheer Camp
DESCRIPTION:[vc_row][vc_column][vc_column_text css=””]Athletes level up their tumbling\, jumps\, stunts\, and routines while enjoying team challenges\, crafts\, and plenty of fun along the way.[/vc_column_text][/vc_column][/vc_row]
URL:https://portal.iclasspro.com/southbaycheer360/camp-details/367?typeId=1&#038;filters=%7B%22sorting%22:%22time%22%7D&#038;campTypeName=Summer%20Camp&#038;campTypeNamePlural=Summer%20Camps#new_tab
CATEGORIES:Summer Camps
ATTACH;FMTTYPE=image/jpeg:https://torrance.southbaycheer360.com/wp-content/uploads/sites/2/2026/02/IMG_1216.jpg
END:VEVENT
BEGIN:VEVENT
DTSTART;VALUE=DATE:20260727
DTEND;VALUE=DATE:20260801
DTSTAMP:20260423T083003
CREATED:20260219T214625Z
LAST-MODIFIED:20260219T215115Z
UID:276-1785110400-1785542399@torrance.southbaycheer360.com
SUMMARY:Cheer Camp
DESCRIPTION:[vc_row][vc_column][vc_column_text css=””]A full week of cheer\, music\, movement\, and FUN! Campers will learn an exciting routine\, enjoy themed activities\, and experience the ultimate 360 camp vibe.[/vc_column_text][/vc_column][/vc_row]
URL:https://portal.iclasspro.com/southbaycheer360/camp-details/368?typeId=1&#038;filters=%7B%22sorting%22:%22time%22%7D&#038;campTypeName=Summer%20Camp&#038;campTypeNamePlural=Summer%20Camps#new_tab
CATEGORIES:Summer Camps
ATTACH;FMTTYPE=image/jpeg:https://torrance.southbaycheer360.com/wp-content/uploads/sites/2/2026/02/IMG_9819.jpg
END:VEVENT
BEGIN:VEVENT
DTSTART;VALUE=DATE:20260727
DTEND;VALUE=DATE:20260801
DTSTAMP:20260423T083003
CREATED:20260219T214853Z
LAST-MODIFIED:20260219T215134Z
UID:280-1785110400-1785542399@torrance.southbaycheer360.com
SUMMARY:Ninja Zone Camp
DESCRIPTION:[vc_row][vc_column][vc_column_text css=””]Our action-packed Ninja Camp challenges athletes with obstacle courses\, agility drills\, strength training\, and tricking progressions. Campers build coordination\, speed\, and confidence while conquering new physical challenges all week long.[/vc_column_text][/vc_column][/vc_row]
URL:https://portal.iclasspro.com/southbaycheer360/camp-details/373?typeId=1&#038;filters=%7B%22sorting%22:%22time%22%7D&#038;campTypeName=Summer%20Camp&#038;campTypeNamePlural=Summer%20Camps#new_tab
CATEGORIES:Summer Camps
ATTACH;FMTTYPE=image/jpeg:https://torrance.southbaycheer360.com/wp-content/uploads/sites/2/2026/02/Graphic-_12.jpg
END:VEVENT
BEGIN:VEVENT
DTSTART;VALUE=DATE:20260803
DTEND;VALUE=DATE:20260808
DTSTAMP:20260423T083003
CREATED:20260219T214745Z
LAST-MODIFIED:20260219T215152Z
UID:278-1785715200-1786147199@torrance.southbaycheer360.com
SUMMARY:Cheer Camp
DESCRIPTION:[vc_row][vc_column][vc_column_text css=””]We wrap up summer with confidence-building routines\, skill progressions\, team bonding\, and a high-energy finish your athlete won’t forget![/vc_column_text][/vc_column][/vc_row]
URL:https://portal.iclasspro.com/southbaycheer360/camp-details/369?typeId=1&#038;filters=%7B%22sorting%22:%22time%22%7D&#038;campTypeName=Summer%20Camp&#038;campTypeNamePlural=Summer%20Camps#new_tab
CATEGORIES:Summer Camps
ATTACH;FMTTYPE=image/jpeg:https://torrance.southbaycheer360.com/wp-content/uploads/sites/2/2026/02/IMG_7587.jpg
END:VEVENT
END:VCALENDAR